BEGIN:VCALENDAR
VERSION:2.0
PRODID:-//Plateau Spijkenisse - ECPv6.15.20//NONSGML v1.0//EN
CALSCALE:GREGORIAN
METHOD:PUBLISH
X-ORIGINAL-URL:https://www.plateauspijkenisse.nl
X-WR-CALDESC:Evenementen voor Plateau Spijkenisse
REFRESH-INTERVAL;VALUE=DURATION:PT1H
X-Robots-Tag:noindex
X-PUBLISHED-TTL:PT1H
BEGIN:VTIMEZONE
TZID:Europe/Amsterdam
BEGIN:DAYLIGHT
TZOFFSETFROM:+0100
TZOFFSETTO:+0200
TZNAME:CEST
DTSTART:20230326T010000
END:DAYLIGHT
BEGIN:STANDARD
TZOFFSETFROM:+0200
TZOFFSETTO:+0100
TZNAME:CET
DTSTART:20231029T010000
END:STANDARD
BEGIN:DAYLIGHT
TZOFFSETFROM:+0100
TZOFFSETTO:+0200
TZNAME:CEST
DTSTART:20240331T010000
END:DAYLIGHT
BEGIN:STANDARD
TZOFFSETFROM:+0200
TZOFFSETTO:+0100
TZNAME:CET
DTSTART:20241027T010000
END:STANDARD
BEGIN:DAYLIGHT
TZOFFSETFROM:+0100
TZOFFSETTO:+0200
TZNAME:CEST
DTSTART:20250330T010000
END:DAYLIGHT
BEGIN:STANDARD
TZOFFSETFROM:+0200
TZOFFSETTO:+0100
TZNAME:CET
DTSTART:20251026T010000
END:STANDARD
END:VTIMEZONE
BEGIN:VEVENT
DTSTART;TZID=Europe/Amsterdam:20241130T120000
DTEND;TZID=Europe/Amsterdam:20241130T160000
DTSTAMP:20260425T155322
CREATED:20241107T104855Z
LAST-MODIFIED:20241111T153037Z
UID:2796-1732968000-1732982400@www.plateauspijkenisse.nl
SUMMARY:Sinterklaas en zijn te gekke Pieten team
DESCRIPTION:Ken jij het Te Gekke Pieten Team van Sinterklaas al?Dat zijn namelijk geen gewone Pieten….nee deze zitten in Spanje op de Pietenschool en hebben daar allemaal iets leuks en aparts geleerd. Ben je ook zo benieuwd? Kom dan zaterdag 30 november tussen 12.00 en 16.00 naar winkelcentrum ’t Plateau\, dan laten ze je zien wat ze allemaal geleerd hebben…Spannend!Sinterklaas is er natuurlijk ook bij… we kunnen niet wachten. Kom jij ook? Gezellig!
URL:https://www.plateauspijkenisse.nl/event/sinterklaas-en-zijn-te-gekke-pieten-team/
ATTACH;FMTTYPE=image/png:https://www.plateauspijkenisse.nl/wp-content/uploads/2024/11/Naamloos-2024-11-11T162419.537.png
END:VEVENT
END:VCALENDAR