BEGIN:VCALENDAR
VERSION:2.0
PRODID:-//Plateau Spijkenisse - ECPv6.15.20//NONSGML v1.0//EN
CALSCALE:GREGORIAN
METHOD:PUBLISH
X-WR-CALNAME:Plateau Spijkenisse
X-ORIGINAL-URL:https://www.plateauspijkenisse.nl
X-WR-CALDESC:Evenementen voor Plateau Spijkenisse
REFRESH-INTERVAL;VALUE=DURATION:PT1H
X-Robots-Tag:noindex
X-PUBLISHED-TTL:PT1H
BEGIN:VTIMEZONE
TZID:Europe/Amsterdam
BEGIN:DAYLIGHT
TZOFFSETFROM:+0100
TZOFFSETTO:+0200
TZNAME:CEST
DTSTART:20230326T010000
END:DAYLIGHT
BEGIN:STANDARD
TZOFFSETFROM:+0200
TZOFFSETTO:+0100
TZNAME:CET
DTSTART:20231029T010000
END:STANDARD
BEGIN:DAYLIGHT
TZOFFSETFROM:+0100
TZOFFSETTO:+0200
TZNAME:CEST
DTSTART:20240331T010000
END:DAYLIGHT
BEGIN:STANDARD
TZOFFSETFROM:+0200
TZOFFSETTO:+0100
TZNAME:CET
DTSTART:20241027T010000
END:STANDARD
BEGIN:DAYLIGHT
TZOFFSETFROM:+0100
TZOFFSETTO:+0200
TZNAME:CEST
DTSTART:20250330T010000
END:DAYLIGHT
BEGIN:STANDARD
TZOFFSETFROM:+0200
TZOFFSETTO:+0100
TZNAME:CET
DTSTART:20251026T010000
END:STANDARD
END:VTIMEZONE
BEGIN:VEVENT
DTSTART;TZID=Europe/Amsterdam:20241224T110000
DTEND;TZID=Europe/Amsterdam:20241224T160000
DTSTAMP:20260421T114851
CREATED:20241217T081458Z
LAST-MODIFIED:20241217T081500Z
UID:2840-1735038000-1735056000@www.plateauspijkenisse.nl
SUMMARY:Kerstshoppen op 't Plateau
DESCRIPTION:24 december wordt kerstshoppen op Winkelcentrum ’t Plateau extra gezellig!  \n\n\n\nHet is de perfecte gelegenheid om je laatste kerstinkopen te doen en terwijl de kerstman en kerstvrouw  heerlijke lekkernijen uitdelen klinkt overal vrolijke kerstmuziek.  \n\n\n\nHo ho ho kom kerstshoppen op ’t Plateau!
URL:https://www.plateauspijkenisse.nl/event/kerstshoppen-op-t-plateau/
ATTACH;FMTTYPE=image/png:https://www.plateauspijkenisse.nl/wp-content/uploads/2024/12/WCP_Kerst_241224-.png
END:VEVENT
END:VCALENDAR